BEGIN:VCALENDAR
VERSION:2.0
PRODID:-//Sheffield Jazz - ECPv5.4.0//NONSGML v1.0//EN
CALSCALE:GREGORIAN
METHOD:PUBLISH
X-WR-CALNAME:Sheffield Jazz
X-ORIGINAL-URL:https://www.sheffieldjazz.org.uk
X-WR-CALDESC:Events for Sheffield Jazz
BEGIN:VTIMEZONE
TZID:Europe/London
BEGIN:DAYLIGHT
TZOFFSETFROM:+0000
TZOFFSETTO:+0100
TZNAME:BST
DTSTART:20250330T010000
END:DAYLIGHT
BEGIN:STANDARD
TZOFFSETFROM:+0100
TZOFFSETTO:+0000
TZNAME:GMT
DTSTART:20251026T010000
END:STANDARD
END:VTIMEZONE
BEGIN:VEVENT
DTSTART;TZID=Europe/London:20251127T200000
DTEND;TZID=Europe/London:20251127T224500
DTSTAMP:20260420T110222
CREATED:20250703T145936Z
LAST-MODIFIED:20251122T171643Z
UID:4220-1764273600-1764283500@www.sheffieldjazz.org.uk
SUMMARY:Ribbons Quartet - Postponed
DESCRIPTION:Ribbons Quartet – postponed\, ticket holders will get a full refund\n\nThursday 27 November \nCrookes Social Club\, \n8.00 – 10.45 pm\, doors open 7.20 pm\n\nRebecca Nash: piano\nSara Colman: vocals\nHenrik Jensen: bass\nJonathan Silk: drums\nphoto credit: Olivier Burnside \nClick Here for Tickets\nSinger Sara Colman and pianist Rebecca Nash are two musicians whose beautiful and intimate music celebrates the joy of musical partnership\, friendship and collaboration. Their long-standing relationship\, centred around a song they wrote together called Ribbons\, has honed a musical intuition that produces the misleadingly easy sounding but musically adventurous story telling of all good singer-musician relationships. Built on a foundation of jazz\, the creativity of the duo comes to the fore in their collection of songs which straddle singer-songwriter\, folk and classical music with glimpses of early influences such as Joni Mitchell and British jazz pianist John Taylor.   \n“…Colman’s exquisite vocals and Nash’s own penchant for blindingly beautiful chord structures…. the resulting music is simply stunning…” – UK Vibe\n“ …. At the vanguard of innovative and compelling new music.” – Downbeat Magazine\n“The collaboration between Nash and Colman continues to pay huge dividend” – Bandcamp \nRebecca Nash is firmly established as one of the brightest jazz talents in the UK and is now garnering an international reputation for her distinctive sound. She has worked with the likes of saxophonist John O’Gallagher\, trumpeter/producer Nick Walterssinger and trumpeter/producer Nick Walters. Rebecca has appeared at EFG London and Cheltenham Jazz festivals\, We Out Here\, Love Supreme Festival\, Manchester Jazz Festival\, and Glastonbury amongst others.  https://www.rebeccanashmusic.com/ \n“One of the freshest most creative talents in the UK at this present time” ★★★★★ – UK Vibe \nSara Colman is a composer\, singer-songwriter and educator who is co-director of the Jazzlines Summer School\, Recording-Artist-in Residence at the Royal Birmingham Conservatoire where she also teaches She has released two acclaimed recordings with Stoney Lane Records; ‘What We’re Made Of’ (2018) and ‘Ink On A Pin: A Celebration of Joni Mitchell’ (2020) Sara has worked with Laura Mvula\, Liane Carroll\, Mahalia and others.  https://www.saracolman.com/ \n“Sara Colman has a rare ability. Not only does she do full justice to the music and lyrics of a song\, she also shares the music with her audience with a deep generosity of spirit. And she does it all with wit\, with grace and wisdom” – London Jazz News \nHenrik Jensen studied bass at the Royal Academy and leads his own quartet and trio\, releasing four albums. Henrik has worked all over world from the Blue Note in Tokyo to concert halls in Moscow and played with artists such as Iain Ballamy\, Gareth Williams\, Hannes Riepler\, Gene Calderazzo\, Billy Jenkins\, Bruno Heinen.and John Law.  https://www.henrik-jensen.com/ \n“Jensen is thoughtful\, richly chordal and attractively Charlie Haden-like on the bass” – John Fordham\, The Guardian \nJonathan Silk is a Scottish drummer\, composer\, and bandleader based in Birmingham who has won BBC Young Scottish Jazz Musician of the Year and the Yamaha Jazz Scholar Award. He has released two albums with his own big band and string orchestra to critical acclaim and worked with world-renowned composers including Vince Mendoza\, Maria Schneider and other nationally and internationally renowned musicians.  https://www.jonathansilk.co.uk/  \nVideo Links\n \n \nTicket Prices\nFull – £17\nOver 60\, disabled\, unemployed – £15\nStudent with NUS card – £10\n15 – 17 year olds – £5\nUnder 15s – Free \nWe encourage you to book tickets online in advance\, to avoid missing out and to make life easier for our Door Team.  It will be possible to pay for entry at the door (preferably by contactless payment) if seats are available. \nAdvance tickets available from www.ticketsource.co.uk/sheffield-jazz
URL:https://www.sheffieldjazz.org.uk/event/ribbons-quartet/
LOCATION:Crookes Social Club\, Mulehouse Road\, Sheffield\, S10 1TD
CATEGORIES:All Gigs
ATTACH;FMTTYPE=image/jpeg:https://www.sheffieldjazz.org.uk/wp-content/uploads/2025/07/Ribbons-4x3-400-©Olivier-Burnside.jpg
ORGANIZER;CN="Sheffield%20Jazz":MAILTO:admin@sheffieldjazz.org.uk
END:VEVENT
END:VCALENDAR